Workbook
Name Azua: Prov!$C$3:$C$12
Name Bahoruco: Prov!$C$13:$C$17
Name Barahona: Prov!$C$18:$C$28
Name CodigoActividad: 'Formulario PPGR2'!$H$9:$H$721
Name Dajabon: Prov!$C$29:$C$33
Name Dajabón: Prov!$C$29:$C$33
Name Distrito_Nacional: Prov!$C$2
Name Duarte: Prov!$C$34:$C$40
Name El_Seibo: Prov!$C$41:$C$42
Name Elias_Pina: Prov!$C$43:$C$48
Name Elías_Piña: Prov!$C$43:$C$48
Name Espaillat: Prov!$C$49:$C$52
Name Hato_Mayor: Prov!$C$53:$C$55
Name Hermanas_Mirabal: Prov!$C$56:$C$58
Name Independencia: Prov!$C$59:$C$64
Name La_Altagracia: Prov!$C$65:$C$66
Name La_Romana: Prov!$C$67:$C$69
Name La_Vega: Prov!$C$70:$C$73
Name Le.1: Obj!$D$122:$D$124
Name Le.2: Obj!$D$125:$D$127
Name Le.3: Obj!$D$128:$D$134
Name Le.4: Obj!$D$134
Name ls_ComprayAlquiler: Catalogo!$G$34:$G$42
Name ls_Departamento: Catalogo!$D$37:$D$97
Name Ls_DepartamentosSRS: Catalogo!$G$170:$G$182
Name Ls_DependenciasSRS: Catalogo!$B$137:$B$142
Name ls_Direccion: Catalogo!$D$33:$D$34
Name Ls_DivisionesSRS: Catalogo!$E$145:$E$161
Name Ls_Estructura: Catalogo!$B$24:$B$29
Name Ls_GerenciasSRS: Catalogo!$E$164:$E$166
Name Ls_LinesEstategica: Obj!$B$6:$B$8
Name Ls_Medio_Verificacion: Catalogo!$B$188:$B$207
Name Ls_ObjEstrategico: Obj!$G$6:$G$21
Name Ls_Oficina: Catalogo!$D$127:$D$130
Name Ls_OficinasSRS: Catalogo!$E$179:$E$181
Name ls_Regiones: Catalogo!$B$10:$B$20
Name ls_SubDireccion: Catalogo!$D$100:$D$120
Name ls_TiposAcciones: Catalogo!$G$11:$G$14
Name ls_UnidadesSRS: Catalogo!$B$145:$B$173
Name lsAcabadosTextiles: Insumos!$C$2:$C$3
Name lsAireAcondicionado: Insumos!$C$333:$C$334
Name lsAlimentosyBebidas: Insumos!$C$4:$C$23
Name lsArticulosdePlastico: Insumos!$C$24:$C$30
Name lsElectrodomesticos: Insumos!$C$31:$C$35
Name lsEquiposComputos: Insumos!$C$132:$C$136
Name lsEquiposMedicos: Insumos!$C$44:$C$131
Name lsEquiposSeguridad: Insumos!$C$137:$C$138
Name lsEquiposTransporte: Insumos!$C$526:$C$528
Name lsEventosGenerales: Insumos!$C$139:$C$141
Name lsFuentesFinanciamiento: LSIns!$F$5:$F$8
Name lsGasoil: Insumos!$C$142:$C$149
Name lsHerramientasMenores: Insumos!$C$150:$C$179
Name lsImpresionyEncuadernacion: Insumos!$C$180
Name lsInsumos: LSIns!$B$5:$B$45
Name lsInsumosEquipos: LSIns!$F$16:$F$31
Name lsLlantasyNeumaticos: Insumos!$C$181:$C$188
Name lsMantenimiento: Insumos!$C$189:$C$202
Name lsMantenimientoyReparacion: Catalogo!$G$28:$G$31
Name lsMaterialesdeLimpieza: Insumos!$C$203:$C$217
Name lsMueblesdeAlojamiento: Insumos!$C$218:$C$219

Sheet Resumen
I1: Siglas Dependencias DC-SNS
A2: Servicio Nacional de Salud | I2: Dirección Ejecutiva (DE)
A3: Dirección de Planificación y Desarrollo | I3: Atención a Usuarios (DAU)
I4: Laboratorio e Imágenes (LCI)
A5: Cantidad acciones/actividades/trimestre | I5: Cooperación Internacional (COP)
A6: Primer Trimestre | B6: =+'Formulario PPGR2'!$J$722+'Formulario PPGR2'!$K$722+'Formulario PPGR2'!$L$722 -> 53 | I6: Calidad Institucional (DCG)
A7: Segundo Trimestre | B7: =+'Formulario PPGR2'!$M$722+'Formulario PPGR2'!$N$722+'Formulario PPGR2'!$O$722 -> 75 | I7: Administración (ADM)
A8: Tercer Trimestre | B8: =+'Formulario PPGR2'!$P$722+'Formulario PPGR2'!$Q$722+'Formulario PPGR2'!$R$722 -> 79 | I8: Dirección Centros Hospitalarios (DCH)
A9: Cuarto Trimestre | B9: =+'Formulario PPGR2'!$S$722+'Formulario PPGR2'!$T$722+'Formulario PPGR2'!$U$722 -> 78 | I9: Servicios de Atención Emergencias Extrahospitalaria (DAEH)
A10: Total actividades del año | B10: =SUM(B6:B9) -> 285 | I10: Comunicaciones (DCE)
I11: Financiero (DFI)
I12: Gestión Clínica (DGC)
I13: Proyectos Institucionales (DPI)
I14: Cuidados de Enfermería (ENF)
I15: Desarrollo Institucional (DDI)
I16: Seguimiento, Evaluación y Calidad de los Servicios de Salud (GCSS)
A17: Tabla Resumen POA | B17: {=+'Formulario PPGR1'!M2:O2} -> 2025 | C17: 0 | D17: 0 | I17: Oficina Equidad Género (OEG)
A18: Área Organizacional | B18: Presupuesto | C18: Nº Productos | D18: Nº Actividades | E18: % (Productos) | F18: % (Actividades) | G18: % (Presupuesto) | I18: Recursos Humanos (DRH)
A19: Departamento Seguridad Física | B19: Pend. validación ADM | C19: 1 | D19: 383 | E19: =+C19/$C$41 -> 0.010416667 | F19: =+D19/$D$41 -> 0.094288528 | G19: =+B19/$B$41 -> #VALUE! | I19: Infraestructura y Equipos (DIE)
A20: Dirección Comunicaciones | B20: Pend. validación ADM | C20: 3 | D20: 118 | E20: =+C20/$C$41 -> 0.03125 | F20: =+D20/$D$41 -> 0.029049729 | G20: =+B20/$B$41 -> #VALUE! | I20: Jurídica (DCJ)
A21: Dirección Jurídica | B21: Pend. validación ADM | C21: 3 | D21: 33 | E21: =+C21/$C$41 -> 0.03125 | F21: =+D21/$D$41 -> 0.0081240768 | G21: =+B21/$B$41 -> #VALUE! | I21: Formulación, Monitoreo y Evaluación de PPP (FME)
A22: Dirección Control y Fiscalización | B22: Pend. validación ADM | C22: 1 | D22: 69 | E22: =+C22/$C$41 -> 0.010416667 | F22: =+D22/$D$41 -> 0.016986706 | G22: =+B22/$B$41 -> #VALUE! | I22: Planificación (DPD)
A23: Dirección Planificación y Desarrollo | B23: Pend. validación ADM | C23: 11 | D23: 253 | E23: =+C23/$C$41 -> 0.11458333 | F23: =+D23/$D$41 -> 0.062284589 | G23: =+B23/$B$41 -> #VALUE! | I23: Dirección Primer Nivel (DPN)
A24: Dirección Recursos Humanos | B24: Pend. validación ADM | C24: 7 | D24: 154 | E24: =+C24/$C$41 -> 0.072916667 | F24: =+D24/$D$41 -> 0.037912358 | G24: =+B24/$B$41 -> #VALUE! | I24: Asistencia a la Red (DAR)
A25: Oficina Acceso a la Información | B25: Pend. validación ADM | C25: 1 | D25: 35 | E25: =+C25/$C$41 -> 0.010416667 | F25: =+D25/$D$41 -> 0.0086164451 | G25: =+B25/$B$41 -> #VALUE! | I25: Seguridad Física (DSF)
A26: Dirección Administrativa | B26: Pend. validación ADM | C26: 4 | D26: 79 | E26: =+C26/$C$41 -> 0.041666667 | F26: =+D26/$D$41 -> 0.019448548 | G26: =+B26/$B$41 -> #VALUE! | I26: Sistema de Información (DGI)
A27: Dirección de Tecnología de la Información | B27: Pend. validación ADM | C27: 1 | D27: 57 | E27: =+C27/$C$41 -> 0.010416667 | F27: =+D27/$D$41 -> 0.014032496 | G27: =+B27/$B$41 -> #VALUE! | I27: Tecnología de la Información (DTI)
A28: Dirección Financiera | B28: Pend. validación ADM | C28: 2 | D28: 39 | E28: =+C28/$C$41 -> 0.020833333 | F28: =+D28/$D$41 -> 0.0096011817 | G28: =+B28/$B$41 -> #VALUE! | I28: Monitoreo Calidad de los Servicios de Salud (MCS)
A29: Dirección Infraestructura y Equipos | B29: Pend. validación ADM | C29: 4 | D29: 838 | E29: =+C29/$C$41 -> 0.041666667 | F29: =+D29/$D$41 -> 0.20630231 | G29: =+B29/$B$41 -> #VALUE! | I29: Materno-Infantil (MIA)
A30: Dirección Primer Nivel | B30: Pend. validación ADM | C30: 11 | D30: 165 | E30: =+C30/$C$41 -> 0.11458333 | F30: =+D30/$D$41 -> 0.040620384 | G30: =+B30/$B$41 -> #VALUE! | I30: Oficina de Acceso a la Información (OAI)
... A40: Coordinación Programas de Salud | B40: Pend. validación ADM | C40: 1 | D40: 12 | E40: =+C40/$C$41 -> 0.010416667 | F40: =+D40/$D$41 -> 0.0029542097 | G40: =+B40/$B$41 -> #VALUE! | I40: Activo Fijo (DAF)
A41: Total | B41: =SUM(B23:B40) -> 0 | C41: =SUM(C19:C40) -> 96 | D41: =SUM(D19:D40) -> 4062 | E41: =SUM(E19:E40) -> 1 | F41: =SUM(F19:F40) -> 1 | G41: =SUM(G19:G40) -> #VALUE! | I41: Almacén y Suministros (DAS)
I42: Litigios (LIT)
I43: Elaboración de Documentos Legales (EDL)
I44: Gestión de Servicios de Laboratorio y Sangre (GLS)
I45: Gestión Servicios de Imágenes (GSI)
I46: Desarrollo Laboratorios e Imágenes (DLI)
I47: Desarrollo Servicios de Emergencias Médicas (DSE)
I48: Prevención y Gestión de Riesgos y Desastres (GRD-DAEH)
I49: Operaciones de Emergencias de Centros de Salud (OEC)
...

Sheet Formulario PPGR1
G2: Servicio Nacional de Salud | L2: Año del POA: | M2: 2025
G3: Dirección de Planificación y Desarrollo | L3: Servicio Regional de Salud: | M3: SNS - Dirección Central | Q3: =VLOOKUP(M3,Catalogo!$B$10:$C$20,2,FALSE) -> Ls_Estructura
G4: Plan Operativo Anual | L4: Estructura: | M4: Dirección | Q4: =IF(Q3="Ls_Estructura",VLOOKUP(M4,Catalogo!B24:C28,2,FALSE),VLOOKUP(M4,Catalogo!$B$137:$C$141,2,FALSE)) -> Ls_Direccion
G5: Identificación de Productos/Resultados | L5: =IF(Q3="Ls_Estructura",VLOOKUP($M$4,Catalogo!$B$24:$D$29,3,FALSE),VLOOKUP($M$4,Catalogo!$B$137:$D$141,3,FALSE)) -> Dirección: | M5: SNS - Dirección Central
B8: ID_Dependendencia | C8: POA | D8: SRS | E8: AREA | F8: Eje Estratégico | G8: Cod_LE | H8: Objetivo | I8: Cod_Obj | J8: Resultado esperado | K8: Productos | L8: Indicador | M8: Unidad de medida | N8: Línea Base | O8: Meta | P8: Supuestos | Q8: Dependencia responsable
B9: =IF('Formulario PPGR1'!$F9="","",CONCATENATE('Formulario PPGR1'!$C9,".",'Formulario PPGR1'!$D9,".",'Formulario PPGR1'!$E9,".",#REF!)) -> #REF! | C9: =IF('Formulario PPGR1'!$F9="","",#REF!) -> #REF! | D9: =IF('Formulario PPGR1'!$F9="","",#REF!) -> #REF! | E9: =IF('Formulario PPGR1'!$F9="","",#REF!) -> #REF! | F9: LE.1 - Desarrollo y fortalecimiento de las redes integradas de servicios de salud fundamentada en el Modelo de Atención | G9: {=_xlfn.XLOOKUP($F9,LE_tbl[[#All],[Ls_LinesEstategica]],LE_tbl[[#All],[Le_code]],"",0)} -> LE.1 | H9: 1.1 Fortalecer los niveles de atención priorizando el Primer Nivel de Atención, incrementando su capacidad de resolución para satisfacer eficientemente las necesidades de salud de la población. | I9: =_xlfn.XLOOKUP($H9,Obj!$D$122:$D$134,Obj!$E$122:$E$134,"",0) -> Obj1.1 | J9: 1.1.1 Primer Nivel de Atención fortalecido y con alta resolución para garantizar la prestación de servicios integrales de promoción de la salud, prevención de la enfermedad, diagnóstico, tratamiento, rehabilitación y cuidados paliativos; condicionada a la necesidades de salud y características de la población | K9: 1.1.1.1 Fortalecimiento del cumplimiento de buenas prácticas de almacenamiento, recepción, distribución y dispensación de medicamentos e insumos en los establecimientos del Primer Nivel | L9: Porcentaje de disponibilidad de medicamentos trazadores en el PNA | M9: Porcentaje | N9: 86% (2023) | O9: 0.95 | Q9: Dirección Medicamentos e Insumos
B10: =IF('Formulario PPGR1'!$F10="","",CONCATENATE('Formulario PPGR1'!$C10,".",'Formulario PPGR1'!$D10,".",'Formulario PPGR1'!$E10,".",#REF!)) -> #REF! | C10: =IF('Formulario PPGR1'!$F10="","",#REF!) -> #REF! | D10: =IF('Formulario PPGR1'!$F10="","",#REF!) -> #REF! | E10: =IF('Formulario PPGR1'!$F10="","",#REF!) -> #REF! | F10: LE.1 - Desarrollo y fortalecimiento de las redes integradas de servicios de salud fundamentada en el Modelo de Atención | G10: {=_xlfn.XLOOKUP($F10,LE_tbl[[#All],[Ls_LinesEstategica]],LE_tbl[[#All],[Le_code]],"",0)} -> LE.1 | H10: 1.1 Fortalecer los niveles de atención priorizando el Primer Nivel de Atención, incrementando su capacidad de resolución para satisfacer eficientemente las necesidades de salud de la población. | I10: =_xlfn.XLOOKUP($H10,Obj!$D$122:$D$134,Obj!$E$122:$E$134,"",0) -> Obj1.1 | J10: 1.1.1 Primer Nivel de Atención fortalecido y con alta resolución para garantizar la prestación de servicios integrales de promoción de la salud, prevención de la enfermedad, diagnóstico, tratamiento, rehabilitación y cuidados paliativos; condicionada a la necesidades de salud y características de la población | K10: 1.1.1.2 Proyecto de Fortalecimiento de la provisión de los servicios de Salud para la prevención y gestión de las Enfermedades Crónicas No Transmisibles: Diabetes y Enfermedades Cardiovasculares. HEARTS | L10: Porcentaje de individuos diagnosticados con hipertensión arterial en seguimiento y tratamiento, según protocolo | M10: Porcentaje | N10: 61% (2023) | O10: 0.75 | Q10: Dirección Asistencia a la Red Dirección Primer Nivel
B11: =IF('Formulario PPGR1'!$F11="","",CONCATENATE('Formulario PPGR1'!$C11,".",'Formulario PPGR1'!$D11,".",'Formulario PPGR1'!$E11,".",#REF!)) -> #REF! | C11: =IF('Formulario PPGR1'!$F11="","",#REF!) -> #REF! | D11: =IF('Formulario PPGR1'!$F11="","",#REF!) -> #REF! | E11: =IF('Formulario PPGR1'!$F11="","",#REF!) -> #REF! | F11: LE.1 - Desarrollo y fortalecimiento de las redes integradas de servicios de salud fundamentada en el Modelo de Atención | G11: {=_xlfn.XLOOKUP($F11,LE_tbl[[#All],[Ls_LinesEstategica]],LE_tbl[[#All],[Le_code]],"",0)} -> LE.1 | H11: 1.1 Fortalecer los niveles de atención priorizando el Primer Nivel de Atención, incrementando su capacidad de resolución para satisfacer eficientemente las necesidades de salud de la población. | I11: =_xlfn.XLOOKUP($H11,Obj!$D$122:$D$134,Obj!$E$122:$E$134,"",0) -> Obj1.1 | J11: 1.1.1 Primer Nivel de Atención fortalecido y con alta resolución para garantizar la prestación de servicios integrales de promoción de la salud, prevención de la enfermedad, diagnóstico, tratamiento, rehabilitación y cuidados paliativos; condicionada a la necesidades de salud y características de la población | K11: 1.1.1.2 Proyecto de Fortalecimiento de la provisión de los servicios de Salud para la prevención y gestión de las Enfermedades Crónicas No Transmisibles: Diabetes y Enfermedades Cardiovasculares. HEARTS | L11: Porcentaje de individuos diagnosticados con Diabetes tipo II en seguimiento y tratamiento, según protocolo | M11: Porcentaje | N11: 52% (2023) | O11: 0.65 | Q11: Dirección Asistencia a la Red Dirección Primer Nivel
B12: =IF('Formulario PPGR1'!$F12="","",CONCATENATE('Formulario PPGR1'!$C12,".",'Formulario PPGR1'!$D12,".",'Formulario PPGR1'!$E12,".",#REF!)) -> #REF! | C12: =IF('Formulario PPGR1'!$F12="","",#REF!) -> #REF! | D12: =IF('Formulario PPGR1'!$F12="","",#REF!) -> #REF! | E12: =IF('Formulario PPGR1'!$F12="","",#REF!) -> #REF! | F12: LE.1 - Desarrollo y fortalecimiento de las redes integradas de servicios de salud fundamentada en el Modelo de Atención | G12: {=_xlfn.XLOOKUP($F12,LE_tbl[[#All],[Ls_LinesEstategica]],LE_tbl[[#All],[Le_code]],"",0)} -> LE.1 | H12: 1.1 Fortalecer los niveles de atención priorizando el Primer Nivel de Atención, incrementando su capacidad de resolución para satisfacer eficientemente las necesidades de salud de la población. | I12: =_xlfn.XLOOKUP($H12,Obj!$D$122:$D$134,Obj!$E$122:$E$134,"",0) -> Obj1.1 | J12: 1.1.1 Primer Nivel de Atención fortalecido y con alta resolución para garantizar la prestación de servicios integrales de promoción de la salud, prevención de la enfermedad, diagnóstico, tratamiento, rehabilitación y cuidados paliativos; condicionada a la necesidades de salud y características de la población | K12: 1.1.1.3 Mejora de la adscripción de las Fichas Familiares | L12: Porcentaje de población adscrita al primer nivel de atención | M12: Porcentaje | N12: 9% (2023) | O12: 0.1 | Q12: Dirección Primer Nivel
B13: =IF('Formulario PPGR1'!$F13="","",CONCATENATE('Formulario PPGR1'!$C13,".",'Formulario PPGR1'!$D13,".",'Formulario PPGR1'!$E13,".",#REF!)) -> #REF! | C13: =IF('Formulario PPGR1'!$F13="","",#REF!) -> #REF! | D13: =IF('Formulario PPGR1'!$F13="","",#REF!) -> #REF! | E13: =IF('Formulario PPGR1'!$F13="","",#REF!) -> #REF! | F13: LE.1 - Desarrollo y fortalecimiento de las redes integradas de servicios de salud fundamentada en el Modelo de Atención | G13: {=_xlfn.XLOOKUP($F13,LE_tbl[[#All],[Ls_LinesEstategica]],LE_tbl[[#All],[Le_code]],"",0)} -> LE.1 | H13: 1.1 Fortalecer los niveles de atención priorizando el Primer Nivel de Atención, incrementando su capacidad de resolución para satisfacer eficientemente las necesidades de salud de la población. | I13: =_xlfn.XLOOKUP($H13,Obj!$D$122:$D$134,Obj!$E$122:$E$134,"",0) -> Obj1.1 | J13: 1.1.1 Primer Nivel de Atención fortalecido y con alta resolución para garantizar la prestación de servicios integrales de promoción de la salud, prevención de la enfermedad, diagnóstico, tratamiento, rehabilitación y cuidados paliativos; condicionada a la necesidades de salud y características de la población | K13: 1.1.1.3 Mejora de la adscripción de las Fichas Familiares | L13: Proporción de consultas del SNS realizadas en el primer nivel de atención | M13: Porcentaje | N13: S/D | O13: 0.4 | Q13: Dirección Primer Nivel
B14: =IF('Formulario PPGR1'!$F14="","",CONCATENATE('Formulario PPGR1'!$C14,".",'Formulario PPGR1'!$D14,".",'Formulario PPGR1'!$E14,".",#REF!)) -> #REF! | C14: =IF('Formulario PPGR1'!$F14="","",#REF!) -> #REF! | D14: =IF('Formulario PPGR1'!$F14="","",#REF!) -> #REF! | E14: =IF('Formulario PPGR1'!$F14="","",#REF!) -> #REF! | F14: LE.1 - Desarrollo y fortalecimiento de las redes integradas de servicios de salud fundamentada en el Modelo de Atención | G14: {=_xlfn.XLOOKUP($F14,LE_tbl[[#All],[Ls_LinesEstategica]],LE_tbl[[#All],[Le_code]],"",0)} -> LE.1 | H14: 1.1 Fortalecer los niveles de atención priorizando el Primer Nivel de Atención, incrementando su capacidad de resolución para satisfacer eficientemente las necesidades de salud de la población. | I14: =_xlfn.XLOOKUP($H14,Obj!$D$122:$D$134,Obj!$E$122:$E$134,"",0) -> Obj1.1 | J14: 1.1.2 Reducida la carga de las enfermedades crónicas incluidos los diferentes tipos de cáncer, los trastornos de salud mental, así como ante discapacidad, violencia y traumatismos, a través de servicios de atención que faciliten la detección temprana y la continuidad de la atención, eliminando las brechas en el acceso y utilización de los servicios de salud. | K14: 1.1.2.1 Ampliación de la cobertura y acceso a servicios de salud mental | L14: Porcentaje de Consultas de Salud Mental en la Red Pública | M14: Porcentaje | N14: 2.22% (2023) | O14: 0.03 | Q14: Dirección Asistencia a la Red
B15: =IF('Formulario PPGR1'!$F15="","",CONCATENATE('Formulario PPGR1'!$C15,".",'Formulario PPGR1'!$D15,".",'Formulario PPGR1'!$E15,".",#REF!)) -> #REF! | C15: =IF('Formulario PPGR1'!$F15="","",#REF!) -> #REF! | D15: =IF('Formulario PPGR1'!$F15="","",#REF!) -> #REF! | E15: =IF('Formulario PPGR1'!$F15="","",#REF!) -> #REF! | F15: LE.1 - Desarrollo y fortalecimiento de las redes integradas de servicios de salud fundamentada en el Modelo de Atención | G15: {=_xlfn.XLOOKUP($F15,LE_tbl[[#All],[Ls_LinesEstategica]],LE_tbl[[#All],[Le_code]],"",0)} -> LE.1 | H15: 1.1 Fortalecer los niveles de atención priorizando el Primer Nivel de Atención, incrementando su capacidad de resolución para satisfacer eficientemente las necesidades de salud de la población. | I15: =_xlfn.XLOOKUP($H15,Obj!$D$122:$D$134,Obj!$E$122:$E$134,"",0) -> Obj1.1 | J15: 1.1.2 Reducida la carga de las enfermedades crónicas incluidos los diferentes tipos de cáncer, los trastornos de salud mental, así como ante discapacidad, violencia y traumatismos, a través de servicios de atención que faciliten la detección temprana y la continuidad de la atención, eliminando las brechas en el acceso y utilización de los servicios de salud. | K15: 1.1.2.2 Implementación del Programa Orientado a Resultados Detección Oportuna y Atención del Cáncer de Mama, Cervix y Próstata | L15: Porcentaje de mujeres mayores de 40 años que han realizado mamografía en el último año | M15: Porcentaje | N15: 1.8% (2023) | O15: 0.02 | Q15: Coordinación Programas de Salud Dirección Asistencia a la Red Dirección Materno Infantil y Adolescente Dirección Laboratorio e Imágenes Dirección Centros Hospitalarios
B16: =IF('Formulario PPGR1'!$F16="","",CONCATENATE('Formulario PPGR1'!$C16,".",'Formulario PPGR1'!$D16,".",'Formulario PPGR1'!$E16,".",#REF!)) -> #REF! | C16: =IF('Formulario PPGR1'!$F16="","",#REF!) -> #REF! | D16: =IF('Formulario PPGR1'!$F16="","",#REF!) -> #REF! | E16: =IF('Formulario PPGR1'!$F16="","",#REF!) -> #REF! | F16: LE.1 - Desarrollo y fortalecimiento de las redes integradas de servicios de salud fundamentada en el Modelo de Atención | G16: {=_xlfn.XLOOKUP($F16,LE_tbl[[#All],[Ls_LinesEstategica]],LE_tbl[[#All],[Le_code]],"",0)} -> LE.1 | H16: 1.1 Fortalecer los niveles de atención priorizando el Primer Nivel de Atención, incrementando su capacidad de resolución para satisfacer eficientemente las necesidades de salud de la población. | I16: =_xlfn.XLOOKUP($H16,Obj!$D$122:$D$134,Obj!$E$122:$E$134,"",0) -> Obj1.1 | J16: 1.1.2 Reducida la carga de las enfermedades crónicas incluidos los diferentes tipos de cáncer, los trastornos de salud mental, así como ante discapacidad, violencia y traumatismos, a través de servicios de atención que faciliten la detección temprana y la continuidad de la atención, eliminando las brechas en el acceso y utilización de los servicios de salud. | K16: 1.1.2.2 Implementación del Programa Orientado a Resultados Detección Oportuna y Atención del Cáncer de Mama, Cervix y Próstata | L16: Porcentaje de mujeres que han realizado Papanicolaou en el último año | M16: Porcentaje | N16: 3.78% (2023) | O16: 0.0471 | Q16: Coordinación Programas de Salud Dirección Asistencia a la Red Dirección Materno Infantil y Adolescente Dirección Laboratorio e Imágenes Dirección Centros Hospitalarios Dirección Primer Nivel
B17: =IF('Formulario PPGR1'!$F17="","",CONCATENATE('Formulario PPGR1'!$C17,".",'Formulario PPGR1'!$D17,".",'Formulario PPGR1'!$E17,".",#REF!)) -> #REF! | C17: =IF('Formulario PPGR1'!$F17="","",#REF!) -> #REF! | D17: =IF('Formulario PPGR1'!$F17="","",#REF!) -> #REF! | E17: =IF('Formulario PPGR1'!$F17="","",#REF!) -> #REF! | F17: LE.1 - Desarrollo y fortalecimiento de las redes integradas de servicios de salud fundamentada en el Modelo de Atención | G17: {=_xlfn.XLOOKUP($F17,LE_tbl[[#All],[Ls_LinesEstategica]],LE_tbl[[#All],[Le_code]],"",0)} -> LE.1 | H17: 1.1 Fortalecer los niveles de atención priorizando el Primer Nivel de Atención, incrementando su capacidad de resolución para satisfacer eficientemente las necesidades de salud de la población. | I17: =_xlfn.XLOOKUP($H17,Obj!$D$122:$D$134,Obj!$E$122:$E$134,"",0) -> Obj1.1 | J17: 1.1.2 Reducida la carga de las enfermedades crónicas incluidos los diferentes tipos de cáncer, los trastornos de salud mental, así como ante discapacidad, violencia y traumatismos, a través de servicios de atención que faciliten la detección temprana y la continuidad de la atención, eliminando las brechas en el acceso y utilización de los servicios de salud. | K17: 1.1.2.2 Implementación del Programa Orientado a Resultados Detección Oportuna y Atención del Cáncer de Mama, Cervix y Próstata | L17: Porcentaje de hombres que han realizado examen de próstata en el último año | M17: Porcentaje | N17: 1.12% (2023) | O17: 0.0116 | Q17: Coordinación Programas de Salud Dirección Asistencia a la Red Dirección Laboratorio e Imágenes Dirección Centros Hospitalarios
B18: =IF('Formulario PPGR1'!$F18="","",CONCATENATE('Formulario PPGR1'!$C18,".",'Formulario PPGR1'!$D18,".",'Formulario PPGR1'!$E18,".",#REF!)) -> #REF! | C18: =IF('Formulario PPGR1'!$F18="","",#REF!) -> #REF! | D18: =IF('Formulario PPGR1'!$F18="","",#REF!) -> #REF! | E18: =IF('Formulario PPGR1'!$F18="","",#REF!) -> #REF! | F18: LE.1 - Desarrollo y fortalecimiento de las redes integradas de servicios de salud fundamentada en el Modelo de Atención | G18: {=_xlfn.XLOOKUP($F18,LE_tbl[[#All],[Ls_LinesEstategica]],LE_tbl[[#All],[Le_code]],"",0)} -> LE.1 | H18: 1.1 Fortalecer los niveles de atención priorizando el Primer Nivel de Atención, incrementando su capacidad de resolución para satisfacer eficientemente las necesidades de salud de la población. | I18: =_xlfn.XLOOKUP($H18,Obj!$D$122:$D$134,Obj!$E$122:$E$134,"",0) -> Obj1.1 | J18: 1.1.2 Reducida la carga de las enfermedades crónicas incluidos los diferentes tipos de cáncer, los trastornos de salud mental, así como ante discapacidad, violencia y traumatismos, a través de servicios de atención que faciliten la detección temprana y la continuidad de la atención, eliminando las brechas en el acceso y utilización de los servicios de salud. | K18: 1.1.2.3 Implementación del Programa Orientado a Resultados Detección Temprana de Déficit Auditivo | L18: Porcentaje de ejecución metas físicas del PoR Déficit Auditivo | M18: Porcentaje | N18: S/D | O18: 0.95 | Q18: Dirección Materno Infantil y Adolescente Dirección Centros Hospitalarios
B19: =IF('Formulario PPGR1'!$F19="","",CONCATENATE('Formulario PPGR1'!$C19,".",'Formulario PPGR1'!$D19,".",'Formulario PPGR1'!$E19,".",#REF!)) -> #REF! | C19: =IF('Formulario PPGR1'!$F19="","",#REF!) -> #REF! | D19: =IF('Formulario PPGR1'!$F19="","",#REF!) -> #REF! | E19: =IF('Formulario PPGR1'!$F19="","",#REF!) -> #REF! | F19: LE.1 - Desarrollo y fortalecimiento de las redes integradas de servicios de salud fundamentada en el Modelo de Atención | G19: {=_xlfn.XLOOKUP($F19,LE_tbl[[#All],[Ls_LinesEstategica]],LE_tbl[[#All],[Le_code]],"",0)} -> LE.1 | H19: 1.1 Fortalecer los niveles de atención priorizando el Primer Nivel de Atención, incrementando su capacidad de resolución para satisfacer eficientemente las necesidades de salud de la población. | I19: =_xlfn.XLOOKUP($H19,Obj!$D$122:$D$134,Obj!$E$122:$E$134,"",0) -> Obj1.1 | J19: 1.1.3 Reducida la morbi-mortalidad de las enfermedades transmisibles, incluidas la infección por el VIH/SIDA, la Tuberculosis, las infecciones de transmisión sexual, las hepatitis virales, enfermedades transmitidas por vectores, enfermedades desatendidas, tropicales y zoonóticas, y las enfermedades prevenibles mediante vacunación; con especial atención en las poblaciones vulnerables | K19: 1.1.3.1 Proyecto sobre la Iniciativa Regional para la Eliminación de la Malaria (IREM) | L19: Porcentaje de implementación del proyecto IREM segpun la programación del periodo | M19: Porcentaje | N19: S/D | O19: 0.85 | Q19: Dirección Asistencia a la Red Dirección Laboratorio e Imágenes Dirección Primer Nivel de Atención
B20: =IF('Formulario PPGR1'!$F20="","",CONCATENATE('Formulario PPGR1'!$C20,".",'Formulario PPGR1'!$D20,".",'Formulario PPGR1'!$E20,".",#REF!)) -> #REF! | C20: =IF('Formulario PPGR1'!$F20="","",#REF!) -> #REF! | D20: =IF('Formulario PPGR1'!$F20="","",#REF!) -> #REF! | E20: =IF('Formulario PPGR1'!$F20="","",#REF!) -> #REF! | F20: LE.1 - Desarrollo y fortalecimiento de las redes integradas de servicios de salud fundamentada en el Modelo de Atención | G20: {=_xlfn.XLOOKUP($F20,LE_tbl[[#All],[Ls_LinesEstategica]],LE_tbl[[#All],[Le_code]],"",0)} -> LE.1 | H20: 1.1 Fortalecer los niveles de atención priorizando el Primer Nivel de Atención, incrementando su capacidad de resolución para satisfacer eficientemente las necesidades de salud de la población. | I20: =_xlfn.XLOOKUP($H20,Obj!$D$122:$D$134,Obj!$E$122:$E$134,"",0) -> Obj1.1 | J20: 1.1.3 Reducida la morbi-mortalidad de las enfermedades transmisibles, incluidas la infección por el VIH/SIDA, la Tuberculosis, las infecciones de transmisión sexual, las hepatitis virales, enfermedades transmitidas por vectores, enfermedades desatendidas, tropicales y zoonóticas, y las enfermedades prevenibles mediante vacunación; con especial atención en las poblaciones vulnerables | K20: 1.1.3.2 Programa de fortalecimiento de la gestión de los Servicios de Atención Integral (SAIs) para el VIH-SIDA en todos sus componentes | L20: Al menos el 95 % de las personas que viven con el VIH conocen su estado serológico | M20: Porcentaje | N20: 100% (2024) | O20: 0.95 | Q20: Dirección Asistencia a la Red Dirección Laboratorio e Imágenes
... B26: =IF('Formulario PPGR1'!$F26="","",CONCATENATE('Formulario PPGR1'!$C26,".",'Formulario PPGR1'!$D26,".",'Formulario PPGR1'!$E26,".",#REF!)) -> #REF! | C26: =IF('Formulario PPGR1'!$F26="","",#REF!) -> #REF! | D26: =IF('Formulario PPGR1'!$F26="","",#REF!) -> #REF! | E26: =IF('Formulario PPGR1'!$F26="","",#REF!) -> #REF! | F26: LE.1 - Desarrollo y fortalecimiento de las redes integradas de servicios de salud fundamentada en el Modelo de Atención | G26: {=_xlfn.XLOOKUP($F26,LE_tbl[[#All],[Ls_LinesEstategica]],LE_tbl[[#All],[Le_code]],"",0)} -> LE.1 | H26: 1.1 Fortalecer los niveles de atención priorizando el Primer Nivel de Atención, incrementando su capacidad de resolución para satisfacer eficientemente las necesidades de salud de la población. | I26: =_xlfn.XLOOKUP($H26,Obj!$D$122:$D$134,Obj!$E$122:$E$134,"",0) -> Obj1.1 | J26: 1.1.4 Garantizado el cierre de brecha según cartera de servicios y Modelo de Atención en términos de recursos, a través del adecuado financiamiento del PN con las metas de la Red Pública | K26: 1.1.1.4 Direccionalizado los planes de desarrollo e inversión de los SRS hacia el fortalecimiento del PNA | L26: Porcentaje de ejecuión de los planes de inversión | M26: Porcentaje | N26: 25% (2023) | O26: 0.6 | Q26: Dirección Primer Nivel
B27: =IF('Formulario PPGR1'!$F27="","",CONCATENATE('Formulario PPGR1'!$C27,".",'Formulario PPGR1'!$D27,".",'Formulario PPGR1'!$E27,".",#REF!)) -> #REF! | C27: =IF('Formulario PPGR1'!$F27="","",#REF!) -> #REF! | D27: =IF('Formulario PPGR1'!$F27="","",#REF!) -> #REF! | E27: =IF('Formulario PPGR1'!$F27="","",#REF!) -> #REF! | F27: LE.1 - Desarrollo y fortalecimiento de las redes integradas de servicios de salud fundamentada en el Modelo de Atención | G27: {=_xlfn.XLOOKUP($F27,LE_tbl[[#All],[Ls_LinesEstategica]],LE_tbl[[#All],[Le_code]],"",0)} -> LE.1 | H27: 1.2 Avanzar en la articulación de las redes de servicios, asegurando que la atención sea integral y acorde con las necesidades territoriales de la población. | I27: =_xlfn.XLOOKUP($H27,Obj!$D$122:$D$134,Obj!$E$122:$E$134,"",0) -> Obj1.2 | J27: 1.2.1 Redes de servicios integradas y con mayor resolución para coordinar la prestación de servicios integrales de promoción de la salud, prevención de la enfermedad, diagnóstico, tratamiento, rehabilitación y cuidados paliativos; condicionada a la necesidades de salud y características de la población, con miras hacia la consecución progresiva del acceso universal a la salud y la cobertura universal de salud | K27: 1.2.1.1 Fortalecimiento del cumplimiento de buenas prácticas de almacenamiento, recepción, distribución y dispensación de medicamentos e insumos en los CEAS | L27: Porcentaje de disponibilidad de medicamentos trazadores en los CEAS | M27: Porcentaje | N27: 86% (2023) | O27: 0.95 | Q27: Dirección Medicamentos e Insumos | V27: Gestión Integral de Información
B28: =IF('Formulario PPGR1'!$F28="","",CONCATENATE('Formulario PPGR1'!$C28,".",'Formulario PPGR1'!$D28,".",'Formulario PPGR1'!$E28,".",#REF!)) -> #REF! | C28: =IF('Formulario PPGR1'!$F28="","",#REF!) -> #REF! | D28: =IF('Formulario PPGR1'!$F28="","",#REF!) -> #REF! | E28: =IF('Formulario PPGR1'!$F28="","",#REF!) -> #REF! | F28: LE.1 - Desarrollo y fortalecimiento de las redes integradas de servicios de salud fundamentada en el Modelo de Atención | G28: {=_xlfn.XLOOKUP($F28,LE_tbl[[#All],[Ls_LinesEstategica]],LE_tbl[[#All],[Le_code]],"",0)} -> LE.1 | H28: 1.2 Avanzar en la articulación de las redes de servicios, asegurando que la atención sea integral y acorde con las necesidades territoriales de la población. | I28: =_xlfn.XLOOKUP($H28,Obj!$D$122:$D$134,Obj!$E$122:$E$134,"",0) -> Obj1.2 | J28: 1.2.1 Redes de servicios integradas y con mayor resolución para coordinar la prestación de servicios integrales de promoción de la salud, prevención de la enfermedad, diagnóstico, tratamiento, rehabilitación y cuidados paliativos; condicionada a la necesidades de salud y características de la población, con miras hacia la consecución progresiva del acceso universal a la salud y la cobertura universal de salud | K28: 1.2.1.2 Expansión de Sistema de administración logística de medicamentos e insumos (SALMI) | L28: Porcentaje de establecimientos programados (expansión) que utilizan SALMI | M28: Porcentaje | N28: 50% (2023) | O28: 0.8 | Q28: Dirección Medicamentos e Insumos
B29: =IF('Formulario PPGR1'!$F29="","",CONCATENATE('Formulario PPGR1'!$C29,".",'Formulario PPGR1'!$D29,".",'Formulario PPGR1'!$E29,".",#REF!)) -> #REF! | C29: =IF('Formulario PPGR1'!$F29="","",#REF!) -> #REF! | D29: =IF('Formulario PPGR1'!$F29="","",#REF!) -> #REF! | E29: =IF('Formulario PPGR1'!$F29="","",#REF!) -> #REF! | F29: LE.1 - Desarrollo y fortalecimiento de las redes integradas de servicios de salud fundamentada en el Modelo de Atención | G29: {=_xlfn.XLOOKUP($F29,LE_tbl[[#All],[Ls_LinesEstategica]],LE_tbl[[#All],[Le_code]],"",0)} -> LE.1 | H29: 1.2 Avanzar en la articulación de las redes de servicios, asegurando que la atención sea integral y acorde con las necesidades territoriales de la población. | I29: =_xlfn.XLOOKUP($H29,Obj!$D$122:$D$134,Obj!$E$122:$E$134,"",0) -> Obj1.2 | J29: 1.2.1 Redes de servicios integradas y con mayor resolución para coordinar la prestación de servicios integrales de promoción de la salud, prevención de la enfermedad, diagnóstico, tratamiento, rehabilitación y cuidados paliativos; condicionada a la necesidades de salud y características de la población, con miras hacia la consecución progresiva del acceso universal a la salud y la cobertura universal de salud | K29: 1.2.1.3 Desarrollo del Programa de Salud Bucal (PPI 16) | L29: Porcentaje de ejecución de las metas físicas del PPI 16 | M29: Porcentaje | N29: S/D | O29: 0.9 | Q29: Dirección Odontología | V29: Gestión y Control de la Planificación Institucional
B30: =IF('Formulario PPGR1'!$F30="","",CONCATENATE('Formulario PPGR1'!$C30,".",'Formulario PPGR1'!$D30,".",'Formulario PPGR1'!$E30,".",#REF!)) -> #REF! | C30: =IF('Formulario PPGR1'!$F30="","",#REF!) -> #REF! | D30: =IF('Formulario PPGR1'!$F30="","",#REF!) -> #REF! | E30: =IF('Formulario PPGR1'!$F30="","",#REF!) -> #REF! | F30: LE.1 - Desarrollo y fortalecimiento de las redes integradas de servicios de salud fundamentada en el Modelo de Atención | G30: {=_xlfn.XLOOKUP($F30,LE_tbl[[#All],[Ls_LinesEstategica]],LE_tbl[[#All],[Le_code]],"",0)} -> LE.1 | H30: 1.2 Avanzar en la articulación de las redes de servicios, asegurando que la atención sea integral y acorde con las necesidades territoriales de la población. | I30: =_xlfn.XLOOKUP($H30,Obj!$D$122:$D$134,Obj!$E$122:$E$134,"",0) -> Obj1.2 | J30: 1.2.1 Redes de servicios integradas y con mayor resolución para coordinar la prestación de servicios integrales de promoción de la salud, prevención de la enfermedad, diagnóstico, tratamiento, rehabilitación y cuidados paliativos; condicionada a la necesidades de salud y características de la población, con miras hacia la consecución progresiva del acceso universal a la salud y la cobertura universal de salud | K30: 1.2.1.3 Desarrollo del Programa de Salud Bucal (PPI 16) | L30: Incremento porcentual de los servicios odontologicos en los diferentes EES | M30: Porcentaje | N30: 12.25% (2023) | O30: 0.25 | Q30: Dirección Odontología
B31: =IF('Formulario PPGR1'!$F31="","",CONCATENATE('Formulario PPGR1'!$C31,".",'Formulario PPGR1'!$D31,".",'Formulario PPGR1'!$E31,".",#REF!)) -> #REF! | C31: =IF('Formulario PPGR1'!$F31="","",#REF!) -> #REF! | D31: =IF('Formulario PPGR1'!$F31="","",#REF!) -> #REF! | E31: =IF('Formulario PPGR1'!$F31="","",#REF!) -> #REF! | F31: LE.1 - Desarrollo y fortalecimiento de las redes integradas de servicios de salud fundamentada en el Modelo de Atención | G31: {=_xlfn.XLOOKUP($F31,LE_tbl[[#All],[Ls_LinesEstategica]],LE_tbl[[#All],[Le_code]],"",0)} -> LE.1 | H31: 1.2 Avanzar en la articulación de las redes de servicios, asegurando que la atención sea integral y acorde con las necesidades territoriales de la población. | I31: =_xlfn.XLOOKUP($H31,Obj!$D$122:$D$134,Obj!$E$122:$E$134,"",0) -> Obj1.2 | J31: 1.2.1 Redes de servicios integradas y con mayor resolución para coordinar la prestación de servicios integrales de promoción de la salud, prevención de la enfermedad, diagnóstico, tratamiento, rehabilitación y cuidados paliativos; condicionada a la necesidades de salud y características de la población, con miras hacia la consecución progresiva del acceso universal a la salud y la cobertura universal de salud | K31: 1.2.1.4 Ampliación y mejora de la provisión de servicios de apoyo diagnóstico y laboratorio | L31: Incremento porcentual de los servicios diagnósticos en los diferentes EES | M31: Porcentaje | N31: 27% (2023) | O31: 0.3 | Q31: Dirección Laboratorio e Imágenes | V31: Promoción y Cultura de Innovación
B32: =IF('Formulario PPGR1'!$F32="","",CONCATENATE('Formulario PPGR1'!$C32,".",'Formulario PPGR1'!$D32,".",'Formulario PPGR1'!$E32,".",#REF!)) -> #REF! | C32: =IF('Formulario PPGR1'!$F32="","",#REF!) -> #REF! | D32: =IF('Formulario PPGR1'!$F32="","",#REF!) -> #REF! | E32: =IF('Formulario PPGR1'!$F32="","",#REF!) -> #REF! | F32: LE.1 - Desarrollo y fortalecimiento de las redes integradas de servicios de salud fundamentada en el Modelo de Atención | G32: {=_xlfn.XLOOKUP($F32,LE_tbl[[#All],[Ls_LinesEstategica]],LE_tbl[[#All],[Le_code]],"",0)} -> LE.1 | H32: 1.2 Avanzar en la articulación de las redes de servicios, asegurando que la atención sea integral y acorde con las necesidades territoriales de la población. | I32: =_xlfn.XLOOKUP($H32,Obj!$D$122:$D$134,Obj!$E$122:$E$134,"",0) -> Obj1.2 | J32: 1.2.1 Redes de servicios integradas y con mayor resolución para coordinar la prestación de servicios integrales de promoción de la salud, prevención de la enfermedad, diagnóstico, tratamiento, rehabilitación y cuidados paliativos; condicionada a la necesidades de salud y características de la población, con miras hacia la consecución progresiva del acceso universal a la salud y la cobertura universal de salud | K32: 1.2.1.5 Programa de Fortalecimiento del Nivel Especializado a través del Modelo de Atención Integral en Salud | L32: Tasa de mortalidad hospitalaria neta | M32: Porcentaje | N32: 3.69% (2023) | O32: <3.5% | Q32: Dirección Centros Hospitalarios
B33: =IF('Formulario PPGR1'!$F33="","",CONCATENATE('Formulario PPGR1'!$C33,".",'Formulario PPGR1'!$D33,".",'Formulario PPGR1'!$E33,".",#REF!)) -> #REF! | C33: =IF('Formulario PPGR1'!$F33="","",#REF!) -> #REF! | D33: =IF('Formulario PPGR1'!$F33="","",#REF!) -> #REF! | E33: =IF('Formulario PPGR1'!$F33="","",#REF!) -> #REF! | F33: LE.1 - Desarrollo y fortalecimiento de las redes integradas de servicios de salud fundamentada en el Modelo de Atención | G33: {=_xlfn.XLOOKUP($F33,LE_tbl[[#All],[Ls_LinesEstategica]],LE_tbl[[#All],[Le_code]],"",0)} -> LE.1 | H33: 1.2 Avanzar en la articulación de las redes de servicios, asegurando que la atención sea integral y acorde con las necesidades territoriales de la población. | I33: =_xlfn.XLOOKUP($H33,Obj!$D$122:$D$134,Obj!$E$122:$E$134,"",0) -> Obj1.2 | J33: 1.2.1 Redes de servicios integradas y con mayor resolución para coordinar la prestación de servicios integrales de promoción de la salud, prevención de la enfermedad, diagnóstico, tratamiento, rehabilitación y cuidados paliativos; condicionada a la necesidades de salud y características de la población, con miras hacia la consecución progresiva del acceso universal a la salud y la cobertura universal de salud | K33: 1.2.1.5 Programa de Fortalecimiento del Nivel Especializado a través del Modelo de Atención Integral en Salud | L33: Índice de ocupación | M33: Porcentaje | N33: 52.71% (2023) | O33: 0.6 | Q33: Dirección Centros Hospitalarios
B34: =IF('Formulario PPGR1'!$F34="","",CONCATENATE('Formulario PPGR1'!$C34,".",'Formulario PPGR1'!$D34,".",'Formulario PPGR1'!$E34,".",#REF!)) -> #REF! | C34: =IF('Formulario PPGR1'!$F34="","",#REF!) -> #REF! | D34: =IF('Formulario PPGR1'!$F34="","",#REF!) -> #REF! | E34: =IF('Formulario PPGR1'!$F34="","",#REF!) -> #REF! | F34: LE.1 - Desarrollo y fortalecimiento de las redes integradas de servicios de salud fundamentada en el Modelo de Atención | G34: {=_xlfn.XLOOKUP($F34,LE_tbl[[#All],[Ls_LinesEstategica]],LE_tbl[[#All],[Le_code]],"",0)} -> LE.1 | H34: 1.2 Avanzar en la articulación de las redes de servicios, asegurando que la atención sea integral y acorde con las necesidades territoriales de la población. | I34: =_xlfn.XLOOKUP($H34,Obj!$D$122:$D$134,Obj!$E$122:$E$134,"",0) -> Obj1.2 | J34: 1.2.1 Redes de servicios integradas y con mayor resolución para coordinar la prestación de servicios integrales de promoción de la salud, prevención de la enfermedad, diagnóstico, tratamiento, rehabilitación y cuidados paliativos; condicionada a la necesidades de salud y características de la población, con miras hacia la consecución progresiva del acceso universal a la salud y la cobertura universal de salud | K34: 1.2.1.5 Programa de Fortalecimiento del Nivel Especializado a través del Modelo de Atención Integral en Salud | L34: Razón de emergencias vs consultas | M34: Porcentaje | N34: 75.19% (2023) | O34: <50% | Q34: Dirección Centros Hospitalarios
B35: =IF('Formulario PPGR1'!$F35="","",CONCATENATE('Formulario PPGR1'!$C35,".",'Formulario PPGR1'!$D35,".",'Formulario PPGR1'!$E35,".",#REF!)) -> #REF! | C35: =IF('Formulario PPGR1'!$F35="","",#REF!) -> #REF! | D35: =IF('Formulario PPGR1'!$F35="","",#REF!) -> #REF! | E35: =IF('Formulario PPGR1'!$F35="","",#REF!) -> #REF! | F35: LE.1 - Desarrollo y fortalecimiento de las redes integradas de servicios de salud fundamentada en el Modelo de Atención | G35: {=_xlfn.XLOOKUP($F35,LE_tbl[[#All],[Ls_LinesEstategica]],LE_tbl[[#All],[Le_code]],"",0)} -> LE.1 | H35: 1.2 Avanzar en la articulación de las redes de servicios, asegurando que la atención sea integral y acorde con las necesidades territoriales de la población. | I35: =_xlfn.XLOOKUP($H35,Obj!$D$122:$D$134,Obj!$E$122:$E$134,"",0) -> Obj1.2 | J35: 1.2.2 Garantizada la atención integral con calidad y oportunidad, mediante la coordinación clínica y asistencial de los servicios de salud | K35: 1.2.2.1 Articulación de la Red: Referencia y Contrarreferencia | L35: Porcentaje de referencias válidas | M35: Porcentaje | N35: S/D | O35: 0.6 | Q35: Dirección Asistencia a la Red
B36: =IF('Formulario PPGR1'!$F36="","",CONCATENATE('Formulario PPGR1'!$C36,".",'Formulario PPGR1'!$D36,".",'Formulario PPGR1'!$E36,".",#REF!)) -> #REF! | C36: =IF('Formulario PPGR1'!$F36="","",#REF!) -> #REF! | D36: =IF('Formulario PPGR1'!$F36="","",#REF!) -> #REF! | E36: =IF('Formulario PPGR1'!$F36="","",#REF!) -> #REF! | F36: LE.1 - Desarrollo y fortalecimiento de las redes integradas de servicios de salud fundamentada en el Modelo de Atención | G36: {=_xlfn.XLOOKUP($F36,LE_tbl[[#All],[Ls_LinesEstategica]],LE_tbl[[#All],[Le_code]],"",0)} -> LE.1 | H36: 1.2 Avanzar en la articulación de las redes de servicios, asegurando que la atención sea integral y acorde con las necesidades territoriales de la población. | I36: =_xlfn.XLOOKUP($H36,Obj!$D$122:$D$134,Obj!$E$122:$E$134,"",0) -> Obj1.2 | J36: 1.2.2 Garantizada la atención integral con calidad y oportunidad, mediante la coordinación clínica y asistencial de los servicios de salud | K36: 1.2.2.1 Articulación de la Red: Referencia y Contrarreferencia | L36: Porcentaje de contrareferencias efectivas | M36: Porcentaje | N36: S/D | O36: 0.45 | Q36: Dirección Asistencia a la Red
B37: =IF('Formulario PPGR1'!$F37="","",CONCATENATE('Formulario PPGR1'!$C37,".",'Formulario PPGR1'!$D37,".",'Formulario PPGR1'!$E37,".",#REF!)) -> #REF! | C37: =IF('Formulario PPGR1'!$F37="","",#REF!) -> #REF! | D37: =IF('Formulario PPGR1'!$F37="","",#REF!) -> #REF! | E37: =IF('Formulario PPGR1'!$F37="","",#REF!) -> #REF! | F37: LE.1 - Desarrollo y fortalecimiento de las redes integradas de servicios de salud fundamentada en el Modelo de Atención | G37: {=_xlfn.XLOOKUP($F37,LE_tbl[[#All],[Ls_LinesEstategica]],LE_tbl[[#All],[Le_code]],"",0)} -> LE.1 | H37: 1.2 Avanzar en la articulación de las redes de servicios, asegurando que la atención sea integral y acorde con las necesidades territoriales de la población. | I37: =_xlfn.XLOOKUP($H37,Obj!$D$122:$D$134,Obj!$E$122:$E$134,"",0) -> Obj1.2 | J37: 1.2.3 Gestión integrada y articulada de las redes públicas de servicios de salud, con actores involucrados en la organización, gestión y atención de servicios de salud con enfoque y participación intra e intersectorial y participación social y de comités de salud, que promueva un ambiente favorable para la cobertura y acceso a los servicios de salud | K37: 1.2.3.1 Programa Salud Escolar en territorios priorizados (SRS Metropolitano (Santo Domingo Este y Oeste) y SRS Norcentral, Santiago) | L37: Porcentaje de ejecución de las metas programáticas del PoR Salud Escolar | M37: Porcentaje | N37: S/D | O37: 0.9 | Q37: Dirección Primer Nivel Dirección Laboratorio e Imágenes
B38: =IF('Formulario PPGR1'!$F38="","",CONCATENATE('Formulario PPGR1'!$C38,".",'Formulario PPGR1'!$D38,".",'Formulario PPGR1'!$E38,".",#REF!)) -> #REF! | C38: =IF('Formulario PPGR1'!$F38="","",#REF!) -> #REF! | D38: =IF('Formulario PPGR1'!$F38="","",#REF!) -> #REF! | E38: =IF('Formulario PPGR1'!$F38="","",#REF!) -> #REF! | F38: LE.1 - Desarrollo y fortalecimiento de las redes integradas de servicios de salud fundamentada en el Modelo de Atención | G38: {=_xlfn.XLOOKUP($F38,LE_tbl[[#All],[Ls_LinesEstategica]],LE_tbl[[#All],[Le_code]],"",0)} -> LE.1 | H38: 1.2 Avanzar en la articulación de las redes de servicios, asegurando que la atención sea integral y acorde con las necesidades territoriales de la población. | I38: =_xlfn.XLOOKUP($H38,Obj!$D$122:$D$134,Obj!$E$122:$E$134,"",0) -> Obj1.2 | J38: 1.2.3 Gestión integrada y articulada de las redes públicas de servicios de salud, con actores involucrados en la organización, gestión y atención de servicios de salud con enfoque y participación intra e intersectorial y participación social y de comités de salud, que promueva un ambiente favorable para la cobertura y acceso a los servicios de salud | K38: 1.2.3.2 Conformación de los comités del Primer Nivel y Nivel Especializado | L38: Porcentaje de UNAPs con comité de salud conformado | M38: Porcentaje | N38: 51% (2023) | O38: 0.75 | Q38: Dirección Primer Nivel
B39: =IF('Formulario PPGR1'!$F39="","",CONCATENATE('Formulario PPGR1'!$C39,".",'Formulario PPGR1'!$D39,".",'Formulario PPGR1'!$E39,".",#REF!)) -> #REF! | C39: =IF('Formulario PPGR1'!$F39="","",#REF!) -> #REF! | D39: =IF('Formulario PPGR1'!$F39="","",#REF!) -> #REF! | E39: =IF('Formulario PPGR1'!$F39="","",#REF!) -> #REF! | F39: LE.1 - Desarrollo y fortalecimiento de las redes integradas de servicios de salud fundamentada en el Modelo de Atención | G39: {=_xlfn.XLOOKUP($F39,LE_tbl[[#All],[Ls_LinesEstategica]],LE_tbl[[#All],[Le_code]],"",0)} -> LE.1 | H39: 1.2 Avanzar en la articulación de las redes de servicios, asegurando que la atención sea integral y acorde con las necesidades territoriales de la población. | I39: =_xlfn.XLOOKUP($H39,Obj!$D$122:$D$134,Obj!$E$122:$E$134,"",0) -> Obj1.2 | J39: 1.2.3 Gestión integrada y articulada de las redes públicas de servicios de salud, con actores involucrados en la organización, gestión y atención de servicios de salud con enfoque y participación intra e intersectorial y participación social y de comités de salud, que promueva un ambiente favorable para la cobertura y acceso a los servicios de salud | K39: 1.2.3.2 Conformación de los comités del Primer Nivel y Nivel Especializado | L39: Porcentaje de hospitales con comités priorizados (reglamento 434-07) conformados | M39: Porcentaje | N39: 80% (2023) | O39: 0.9 | Q39: Dirección Centros Hospitalarios
B40: =IF('Formulario PPGR1'!$F40="","",CONCATENATE('Formulario PPGR1'!$C40,".",'Formulario PPGR1'!$D40,".",'Formulario PPGR1'!$E40,".",#REF!)) -> #REF! | C40: =IF('Formulario PPGR1'!$F40="","",#REF!) -> #REF! | D40: =IF('Formulario PPGR1'!$F40="","",#REF!) -> #REF! | E40: =IF('Formulario PPGR1'!$F40="","",#REF!) -> #REF! | F40: LE.1 - Desarrollo y fortalecimiento de las redes integradas de servicios de salud fundamentada en el Modelo de Atención | G40: {=_xlfn.XLOOKUP($F40,LE_tbl[[#All],[Ls_LinesEstategica]],LE_tbl[[#All],[Le_code]],"",0)} -> LE.1 | H40: 1.2 Avanzar en la articulación de las redes de servicios, asegurando que la atención sea integral y acorde con las necesidades territoriales de la población. | I40: =_xlfn.XLOOKUP($H40,Obj!$D$122:$D$134,Obj!$E$122:$E$134,"",0) -> Obj1.2 | J40: 1.2.4 Redes de servicios ofertando servicios de promoción de la salud y prevención de la enfermedad, acorde a sus carteras de servicios por nivel de atención | K40: 1.2.4.1 Gestión y despliegue de la Cartera de Servicios de Salud en la Red SNS | L40: Porcentaje de establecimientos del nivel especializado que brindan atención conforme cartera de servicios | M40: Porcentaje | N40: S/D | O40: 0.5 | Q40: Dirección Asistencia a la Red Dirección Centros Hospitalarios
B41: =IF('Formulario PPGR1'!$F41="","",CONCATENATE('Formulario PPGR1'!$C41,".",'Formulario PPGR1'!$D41,".",'Formulario PPGR1'!$E41,".",#REF!)) -> #REF! | C41: =IF('Formulario PPGR1'!$F41="","",#REF!) -> #REF! | D41: =IF('Formulario PPGR1'!$F41="","",#REF!) -> #REF! | E41: =IF('Formulario PPGR1'!$F41="","",#REF!) -> #REF! | F41: LE.1 - Desarrollo y fortalecimiento de las redes integradas de servicios de salud fundamentada en el Modelo de Atención | G41: {=_xlfn.XLOOKUP($F41,LE_tbl[[#All],[Ls_LinesEstategica]],LE_tbl[[#All],[Le_code]],"",0)} -> LE.1 | H41: 1.2 Avanzar en la articulación de las redes de servicios, asegurando que la atención sea integral y acorde con las necesidades territoriales de la población. | I41: =_xlfn.XLOOKUP($H41,Obj!$D$122:$D$134,Obj!$E$122:$E$134,"",0) -> Obj1.2 | J41: 1.2.4 Redes de servicios ofertando servicios de promoción de la salud y prevención de la enfermedad, acorde a sus carteras de servicios por nivel de atención | K41: 1.2.4.1 Gestión y despliegue de la Cartera de Servicios de Salud en la Red SNS | L41: Porcentaje de establecimientos del primer nivel que brindan atención conforme cartera de servicios | M41: Porcentaje | N41: S/D | O41: 0.6 | Q41: Dirección Asistencia a la Red Dirección Primer Nivel
B42: =IF('Formulario PPGR1'!$F42="","",CONCATENATE('Formulario PPGR1'!$C42,".",'Formulario PPGR1'!$D42,".",'Formulario PPGR1'!$E42,".",#REF!)) -> #REF! | C42: =IF('Formulario PPGR1'!$F42="","",#REF!) -> #REF! | D42: =IF('Formulario PPGR1'!$F42="","",#REF!) -> #REF! | E42: =IF('Formulario PPGR1'!$F42="","",#REF!) -> #REF! | F42: LE.1 - Desarrollo y fortalecimiento de las redes integradas de servicios de salud fundamentada en el Modelo de Atención | G42: {=_xlfn.XLOOKUP($F42,LE_tbl[[#All],[Ls_LinesEstategica]],LE_tbl[[#All],[Le_code]],"",0)} -> LE.1 | H42: 1.2 Avanzar en la articulación de las redes de servicios, asegurando que la atención sea integral y acorde con las necesidades territoriales de la población. | I42: =_xlfn.XLOOKUP($H42,Obj!$D$122:$D$134,Obj!$E$122:$E$134,"",0) -> Obj1.2 | J42: 1.2.4 Redes de servicios ofertando servicios de promoción de la salud y prevención de la enfermedad, acorde a sus carteras de servicios por nivel de atención | K42: 1.2.4.2 Plan de Gestión de Listas de Espera Quirúrgica | L42: Porcentaje de implementación del plan de gestión de lista de espera quirúrgica | M42: Porcentaje | N42: S/D | O42: 0.85 | Q42: Dirección Centros Hospitalarios
B43: =IF('Formulario PPGR1'!$F43="","",CONCATENATE('Formulario PPGR1'!$C43,".",'Formulario PPGR1'!$D43,".",'Formulario PPGR1'!$E43,".",#REF!)) -> #REF! | C43: =IF('Formulario PPGR1'!$F43="","",#REF!) -> #REF! | D43: =IF('Formulario PPGR1'!$F43="","",#REF!) -> #REF! | E43: =IF('Formulario PPGR1'!$F43="","",#REF!) -> #REF! | F43: LE.1 - Desarrollo y fortalecimiento de las redes integradas de servicios de salud fundamentada en el Modelo de Atención | G43: {=_xlfn.XLOOKUP($F43,LE_tbl[[#All],[Ls_LinesEstategica]],LE_tbl[[#All],[Le_code]],"",0)} -> LE.1 | H43: 1.2 Avanzar en la articulación de las redes de servicios, asegurando que la atención sea integral y acorde con las necesidades territoriales de la población. | I43: =_xlfn.XLOOKUP($H43,Obj!$D$122:$D$134,Obj!$E$122:$E$134,"",0) -> Obj1.2 | J43: 1.2.5 Aumentada la eficacia, eficiencia y equidad de la prestación de los servicios de salud a través de la reorganización y transformación de las estructuras de redes de servicios | K43: 1.2.5.1 Actualización de la zonificación y sectorización en territorio | L43: Cobertura de UNAP respecto a la sectorización vigente | M43: Porcentaje | N43: 0.689 | O43: 0.7 | Q43: Dirección Primer Nivel
B44: =IF('Formulario PPGR1'!$F44="","",CONCATENATE('Formulario PPGR1'!$C44,".",'Formulario PPGR1'!$D44,".",'Formulario PPGR1'!$E44,".",#REF!)) -> #REF! | C44: =IF('Formulario PPGR1'!$F44="","",#REF!) -> #REF! | D44: =IF('Formulario PPGR1'!$F44="","",#REF!) -> #REF! | E44: =IF('Formulario PPGR1'!$F44="","",#REF!) -> #REF! | F44: LE.1 - Desarrollo y fortalecimiento de las redes integradas de servicios de salud fundamentada en el Modelo de Atención | G44: {=_xlfn.XLOOKUP($F44,LE_tbl[[#All],[Ls_LinesEstategica]],LE_tbl[[#All],[Le_code]],"",0)} -> LE.1 | H44: 1.3 Asegurar la calidad de la atención y la seguridad del paciente, en el marco de los derechos de las personas, con el fin de aumentar la confianza y satisfacción de los usuarios de los servicios de salud. | I44: =_xlfn.XLOOKUP($H44,Obj!$D$122:$D$134,Obj!$E$122:$E$134,"",0) -> Obj1.3 | J44: 1.3.3 Desarrollo y mantenimiento de un modelo de evaluación de la entrega de servicios sanitarios con carácter igualitario y libre de discriminación, que promueva mediante la continua retroalimentación, la generación de mejores resultados en materia de salud lo que se traduzca en el aumento de la satisfacción de las personas con respecto a los servicios públicos de salud | K44: 1.3.3.1 Desarrollo del diagnóstico de brechas de género | L44: Promedio de cumplimiento de la Política Transversal de Género | M44: Porcentaje | N44: 100% (2023) | O44: 1 | Q44: Dirección Planificación y Desarrollo
B45: =IF('Formulario PPGR1'!$F45="","",CONCATENATE('Formulario PPGR1'!$C45,".",'Formulario PPGR1'!$D45,".",'Formulario PPGR1'!$E45,".",#REF!)) -> #REF! | C45: =IF('Formulario PPGR1'!$F45="","",#REF!) -> #REF! | D45: =IF('Formulario PPGR1'!$F45="","",#REF!) -> #REF! | E45: =IF('Formulario PPGR1'!$F45="","",#REF!) -> #REF! | F45: LE.1 - Desarrollo y fortalecimiento de las redes integradas de servicios de salud fundamentada en el Modelo de Atención | G45: {=_xlfn.XLOOKUP($F45,LE_tbl[[#All],[Ls_LinesEstategica]],LE_tbl[[#All],[Le_code]],"",0)} -> LE.1 | H45: 1.3 Asegurar la calidad de la atención y la seguridad del paciente, en el marco de los derechos de las personas, con el fin de aumentar la confianza y satisfacción de los usuarios de los servicios de salud. | I45: =_xlfn.XLOOKUP($H45,Obj!$D$122:$D$134,Obj!$E$122:$E$134,"",0) -> Obj1.3 | J45: 1.3.3 Desarrollo y mantenimiento de un modelo de evaluación de la entrega de servicios sanitarios con carácter igualitario y libre de discriminación, que promueva mediante la continua retroalimentación, la generación de mejores resultados en materia de salud lo que se traduzca en el aumento de la satisfacción de las personas con respecto a los servicios públicos de salud | K45: 1.3.3.2 Plan de abordaje efectivo para la atención de las victimas de violencia de género e intrafamiliar que asisten a los establecimientos de salud | L45: Cobertura de las Unidades de Género en los EES que aplican protocolos de detección y evaluación de riesgo ante violencia | M45: Porcentaje | N45: 35% (2023) | O45: 0.45 | Q45: Dirección Asistencia a la Red
B46: =IF('Formulario PPGR1'!$F46="","",CONCATENATE('Formulario PPGR1'!$C46,".",'Formulario PPGR1'!$D46,".",'Formulario PPGR1'!$E46,".",#REF!)) -> #REF! | C46: =IF('Formulario PPGR1'!$F46="","",#REF!) -> #REF! | D46: =IF('Formulario PPGR1'!$F46="","",#REF!) -> #REF! | E46: =IF('Formulario PPGR1'!$F46="","",#REF!) -> #REF! | F46: LE.1 - Desarrollo y fortalecimiento de las redes integradas de servicios de salud fundamentada en el Modelo de Atención | G46: {=_xlfn.XLOOKUP($F46,LE_tbl[[#All],[Ls_LinesEstategica]],LE_tbl[[#All],[Le_code]],"",0)} -> LE.1 | H46: 1.3 Asegurar la calidad de la atención y la seguridad del paciente, en el marco de los derechos de las personas, con el fin de aumentar la confianza y satisfacción de los usuarios de los servicios de salud. | I46: =_xlfn.XLOOKUP($H46,Obj!$D$122:$D$134,Obj!$E$122:$E$134,"",0) -> Obj1.3 | J46: 1.3.3 Desarrollo y mantenimiento de un modelo de evaluación de la entrega de servicios sanitarios con carácter igualitario y libre de discriminación, que promueva mediante la continua retroalimentación, la generación de mejores resultados en materia de salud lo que se traduzca en el aumento de la satisfacción de las personas con respecto a los servicios públicos de salud | K46: 1.3.3.3 Monitoreo y Evaluación de la Calidad y Seguridad del Paciente: Adherencia a Protocolos, Guías de Atención y Otras Normativas | L46: Índice Global de Cumplimiento en Adherencia a Protocolos, Guías de Atención y Otras Normativas de Salud | M46: Porcentaje | N46: S/D | O46: ≥ 80% | Q46: Dirección Gestión de la Calidad de los Servicios de Salud
B47: =IF('Formulario PPGR1'!$F47="","",CONCATENATE('Formulario PPGR1'!$C47,".",'Formulario PPGR1'!$D47,".",'Formulario PPGR1'!$E47,".",#REF!)) -> #REF! | C47: =IF('Formulario PPGR1'!$F47="","",#REF!) -> #REF! | D47: =IF('Formulario PPGR1'!$F47="","",#REF!) -> #REF! | E47: =IF('Formulario PPGR1'!$F47="","",#REF!) -> #REF! | F47: LE.1 - Desarrollo y fortalecimiento de las redes integradas de servicios de salud fundamentada en el Modelo de Atención | G47: {=_xlfn.XLOOKUP($F47,LE_tbl[[#All],[Ls_LinesEstategica]],LE_tbl[[#All],[Le_code]],"",0)} -> LE.1 | H47: 1.3 Asegurar la calidad de la atención y la seguridad del paciente, en el marco de los derechos de las personas, con el fin de aumentar la confianza y satisfacción de los usuarios de los servicios de salud. | I47: =_xlfn.XLOOKUP($H47,Obj!$D$122:$D$134,Obj!$E$122:$E$134,"",0) -> Obj1.3 | J47: 1.3.3 Desarrollo y mantenimiento de un modelo de evaluación de la entrega de servicios sanitarios con carácter igualitario y libre de discriminación, que promueva mediante la continua retroalimentación, la generación de mejores resultados en materia de salud lo que se traduzca en el aumento de la satisfacción de las personas con respecto a los servicios públicos de salud | K47: 1.3.3.4 Monitoreo y Evaluación de la Calidad y Seguridad del Paciente: Control de Infecciones Asociadas a la Atención de la Salud (IAAS) y Bioseguridad | L47: Índice Global de Cumplimiento de los Procesos de Bioseguridad | M47: Porcentaje | N47: S/D | O47: ≥ 60% | Q47: Dirección Gestión de la Calidad de los Servicios de Salud
B48: =IF('Formulario PPGR1'!$F48="","",CONCATENATE('Formulario PPGR1'!$C48,".",'Formulario PPGR1'!$D48,".",'Formulario PPGR1'!$E48,".",#REF!)) -> #REF! | C48: =IF('Formulario PPGR1'!$F48="","",#REF!) -> #REF! | D48: =IF('Formulario PPGR1'!$F48="","",#REF!) -> #REF! | E48: =IF('Formulario PPGR1'!$F48="","",#REF!) -> #REF! | F48: LE.1 - Desarrollo y fortalecimiento de las redes integradas de servicios de salud fundamentada en el Modelo de Atención | G48: {=_xlfn.XLOOKUP($F48,LE_tbl[[#All],[Ls_LinesEstategica]],LE_tbl[[#All],[Le_code]],"",0)} -> LE.1 | H48: 1.3 Asegurar la calidad de la atención y la seguridad del paciente, en el marco de los derechos de las personas, con el fin de aumentar la confianza y satisfacción de los usuarios de los servicios de salud. | I48: =_xlfn.XLOOKUP($H48,Obj!$D$122:$D$134,Obj!$E$122:$E$134,"",0) -> Obj1.3 | J48: 1.3.3 Desarrollo y mantenimiento de un modelo de evaluación de la entrega de servicios sanitarios con carácter igualitario y libre de discriminación, que promueva mediante la continua retroalimentación, la generación de mejores resultados en materia de salud lo que se traduzca en el aumento de la satisfacción de las personas con respecto a los servicios públicos de salud | K48: 1.3.3.5 Desarrollo del Modelo de Experiencia del Paciente | L48: Nivel de Satisfacción de Usuarios en CEAS según resultados de encuestas | M48: Porcentaje | N48: 0.87 | O48: > 80% | Q48: Dirección Gestión de la Calidad de los Servicios de Salud Dirección Centros Hospitalarios
...

Sheet Formulario PPGR2
H2: ='Formulario PPGR1'!G2 -> Servicio Nacional de Salud
H3: ='Formulario PPGR1'!G3 -> Dirección de Planificación y Desarrollo | Z3: =IF('Formulario PPGR1'!$M$3="SNS - Dirección Central","ls_Departamento","Ls_DepartamentosSRS") -> ls_Departamento
H4: =+'Formulario PPGR1'!G4 -> Plan Operativo Anual
H5: Identificación de actividades
H6: Servicio Nacional de Salud
B8: ID_Dependendencia | C8: POA | D8: SRS | E8: AREA | F8: TIPO | G8: Productos | H8: Código | I8: Actividades Programables Presupuestables | J8: Ene | K8: Feb | L8: Mar | M8: Abr | N8: May | O8: Jun | P8: Jul | Q8: Ago | R8: Sep | S8: Oct | T8: Nov | U8: Dic | V8: Total de Acciones | W8: Medio de Verificación 1 | X8: Medio de Verificación 2 | Y8: Medio de Verificación 3 | Z8: Responsable
